BEGIN:VCALENDAR
VERSION:2.0
PRODID:-//Sabine Logemann - ECPv6.15.20//NONSGML v1.0//EN
CALSCALE:GREGORIAN
METHOD:PUBLISH
X-WR-CALNAME:Sabine Logemann
X-ORIGINAL-URL:https://fraudich.de
X-WR-CALDESC:Veranstaltungen für Sabine Logemann
REFRESH-INTERVAL;VALUE=DURATION:PT1H
X-Robots-Tag:noindex
X-PUBLISHED-TTL:PT1H
BEGIN:VTIMEZONE
TZID:UTC
BEGIN:STANDARD
TZOFFSETFROM:+0000
TZOFFSETTO:+0000
TZNAME:UTC
DTSTART:20240101T000000
END:STANDARD
END:VTIMEZONE
BEGIN:VEVENT
DTSTART;TZID=UTC:20251115T100000
DTEND;TZID=UTC:20251115T140000
DTSTAMP:20260421T143146
CREATED:20250512T142044Z
LAST-MODIFIED:20251208T112056Z
UID:2110-1763200800-1763215200@fraudich.de
SUMMARY:WAHR.NEHMUNG
DESCRIPTION:„Sein ist Wahrnehmen oder wahrgenommen werden.“ (George Berkeley) \n\nDoch wie funktioniert Wahrnehmung? Und welche Rolle spielen unsere Sinne dabei? Durch unsere Sinneswahrnehmungen weben wir ein persönliches Bild von der Welt und sie sind untrennbar mit Emotionen und Gefühlen verknüpft. Der Duft von Zimt erinnert anWeihnachten\, ein Lied vielleicht an unser erstes Date und eine Berührung kann Wunder wirken. Sie zaubern Stimmungen und Verbindungen und sind für unser Leben unerlässlich. Unsere Sinne sind gefärbt von Erfahrungen. Sind wir abgelenkt spielen sie uns einen Streich. \nIn diesem Workshop gehen wir spielerisch auf Entdeckungsreise. Tauchen in das Erfahrungsfeld der Sinne ein. Üben uns im Wahrnehmen und weniger im Bewerten – hin zu mehr Achtsamkeit im Hier und Jetzt. \nInfos und Anmeldung: www.utefischer-yoga.de \n  \n 
URL:https://fraudich.de/event/wahr-nehmung/
LOCATION:Ute Fischer Yoga Akademie\, Hofgut Hagenbach 1\, Backnang\, 71522
ATTACH;FMTTYPE=image/jpeg:https://fraudich.de/wp-content/uploads/2025/05/Wahr.Nehmung-final-Sabine-images-0.jpeg
END:VEVENT
END:VCALENDAR