BEGIN:VCALENDAR
VERSION:2.0
PRODID:-//Sabine Logemann - ECPv6.15.20//NONSGML v1.0//EN
CALSCALE:GREGORIAN
METHOD:PUBLISH
X-ORIGINAL-URL:https://fraudich.de
X-WR-CALDESC:Veranstaltungen für Sabine Logemann
REFRESH-INTERVAL;VALUE=DURATION:PT1H
X-Robots-Tag:noindex
X-PUBLISHED-TTL:PT1H
BEGIN:VTIMEZONE
TZID:UTC
BEGIN:STANDARD
TZOFFSETFROM:+0000
TZOFFSETTO:+0000
TZNAME:UTC
DTSTART:20240101T000000
END:STANDARD
END:VTIMEZONE
BEGIN:VEVENT
DTSTART;TZID=UTC:20251018T100000
DTEND;TZID=UTC:20251018T180000
DTSTAMP:20260421T111804
CREATED:20250731T135557Z
LAST-MODIFIED:20250928T091837Z
UID:2132-1760781600-1760810400@fraudich.de
SUMMARY:SCHREIB-WORKSHOP
DESCRIPTION:Wäre der Oktober ein Lied\, dann voller Farben\, warmen Licht. Gesammelte Sonnenstrahlen des Sommers. Garten und Gemüseregale sind erntevoll. \nEine Stimmung\, die ankommen & einkehren vereint. \nGenau die möchten wir mit Euch einfangen. Inspiriert von einer wunderbaren Landschaft. Weitblick in die Rheinebene. Rückzug im Wäldchen. \nAustausch im Garten und am Küchentisch im „logemann`s“\, dem gastlichen Haus von Sabine und Dirk Logemann. \nFreu Dich auf einen Tag mit Insidertipps von Romanautorin Claudia. Wie fange ich an? Wie finde ich den roten Faden? Was mache ich bei Schreibblockaden? Wie werden aus guten Texten saugute? \nAm Ende hören wir unsere Geschichten und nehmen sie als Ernte mit nach Hause. \nUnser Angebot für Euch: \nVormittags: Impulse  & Tipps – Schreibwerkstatt \nMittags: Imbiss – Finalisieren der Texte – Austausch & Tipps – Lesung \nAbends: Essen für die die noch bleiben können und möchten (15 Euro) \nKosten: Workshop und Tagesverpflegung 175 \,-Euro. \nInfos und Anmeldung bei Claudia Kundigraber: Dr. Claudia Kundigraber
URL:https://fraudich.de/event/schreib-workshop/
LOCATION:67250 Kutzenhausen\, 17\, rue de la foret\, Kutzenhausen\, 67250\, Frankreich
ATTACH;FMTTYPE=image/jpeg:https://fraudich.de/wp-content/uploads/2025/07/IMG_3796-e1759049881708.jpeg
END:VEVENT
END:VCALENDAR