BEGIN:VCALENDAR
VERSION:2.0
PRODID:-//Sabine Logemann - ECPv6.15.20//NONSGML v1.0//EN
CALSCALE:GREGORIAN
METHOD:PUBLISH
X-ORIGINAL-URL:https://fraudich.de
X-WR-CALDESC:Veranstaltungen für Sabine Logemann
REFRESH-INTERVAL;VALUE=DURATION:PT1H
X-Robots-Tag:noindex
X-PUBLISHED-TTL:PT1H
BEGIN:VTIMEZONE
TZID:UTC
BEGIN:STANDARD
TZOFFSETFROM:+0000
TZOFFSETTO:+0000
TZNAME:UTC
DTSTART:20230101T000000
END:STANDARD
END:VTIMEZONE
BEGIN:VEVENT
DTSTART;TZID=UTC:20240824T170000
DTEND;TZID=UTC:20240824T190000
DTSTAMP:20260422T084416
CREATED:20240624T072956Z
LAST-MODIFIED:20240624T152822Z
UID:2001-1724518800-1724526000@fraudich.de
SUMMARY:Salongespräch menschen pur
DESCRIPTION:Zu Gast: Caroline Hersperger und Hansjörg Schmidt \n\n\nWo geht`s zum Paradies? Caroline Hersperger und Hansjörg Schmidt scheinen die Antwort zu kennen. Ihr neuestes Projekt trägt den Namen “Paradies”. Ein Weinberg. Doch nicht nur für himmlische Weine kennt das Paar das Rezept. \nAn diesem Abend verraten die beiden uns\, wie man groß träumt. Immerhin hat Caroline schon Janoschs Traumwelten Leben eingehaucht\, sie haben zusammen einen Jazzclub gegründet und in ihrem Wohnort eine Zukunftswerkstatt initiiert. \nDen beiden gelingt es\, beruflich und privat aus der Partnerschaft ein Dreamteam zu bilden: Wie das geht? Einfach machen! Hier gibt eins plus eins mehr als zwei: die beiden potenzieren Ideen und Energie. \nIn gemütlicher Atmosphäre teilen Caroline und Hansjörg ihre Rezeptideen für eine gelingende Partnerschaft und ihr Wissen als Weinexperten mit der Verkostung von drei himmlischen Weinen. Ein Apèro zu Beginn und ein kleiner Imbiss runden den Abend ab. \n\n\n  \n\n\n\n Die Veranstaltung\n \n \n Dein Name\n \n \n Deine E-Mail-Adresse\n \n Bemerkung\n \n\n Δ \n\n\n \n 
URL:https://fraudich.de/event/salongespraech-menschen-pur/
LOCATION:67250 Kutzenhausen\, 17\, rue de la foret\, Kutzenhausen\, 67250\, Frankreich
ATTACH;FMTTYPE=image/jpeg:https://fraudich.de/wp-content/uploads/2024/06/2-e1719220538277.jpg
END:VEVENT
END:VCALENDAR